BEGIN:VCALENDAR
VERSION:2.0
PRODID:-//eventon.com NONSGML v1.0//EN
CALSCALE:GREGORIAN
METHOD:PUBLISH
BEGIN:VEVENT
UID:69e5916a01538
DTSTAMP:20260420T023730Z
DTSTART:20260425T170000Z
DTEND:20260425T190000Z
LOCATION:26 Marin Street 26 Marin Street
SUMMARY:7th Annual Earth Week Mushroom “Hunt” in the Gerstle Park neighborhood of San Rafael
DESCRIPTION:Saturday\,  April 25\,  2026 FREE! Where: “Pick” your “mu
 shrooms” at 26 Marin Street (at Clorinda)\,  San Rafael What: 300+ hand-p
 ainted “mushrooms” made from bio-degradable champagne corks and water-s
 oluble paints – earth friendly! Who: Gerstle Park participants of all age
 s! Why: To celebrate Earth Week 2026\,  “plant” them in your yard[..]\n
 https://gerstlepark.com/events/7th-annual-earth-week-mushroom-hunt-in-the-g
 erstle-park-neighborhood-of-san-rafael/
URL:https://gerstlepark.com/events/7th-annual-earth-week-mushroom-hunt-in-the-gerstle-park-neighborhood-of-san-rafael/
END:VEVENT
END:VCALENDAR